BEGIN:VCALENDAR
VERSION:2.0
PRODID:-//wp-events-plugin.com//5.99912//EN
TZID:Europe/Paris
X-WR-TIMEZONE:Europe/Paris
BEGIN:VEVENT
UID:0-1217@vitrolles13.fr
DTSTART;TZID=Europe/Paris;VALUE=DATE:20260422
DTEND;TZID=Europe/Paris;VALUE=DATE:20260423
DTSTAMP:20260420T104530Z
URL:https://www.vitrolles13.fr/evenements/un-espace-multisensoriel-pour-un
 e-evasion-unique/
SUMMARY:Un espace multisensoriel pour une évasion unique
DESCRIPTION:Découvrez notre lieu dédié à la détente et à la stimulati
 on des sens\, pour tous les âges et tous les besoins. Plongez dans un uni
 vers de couleurs\, de sons et de textures\, conçu pour favoriser le bien-
 être\, la relaxation et l’exploration sensorielle. \nCréneau de 15 mi
 nutes réservable pour un groupe de 6 personnes maximum.*\nCréneaux spéc
 ifiques lors des nocturnes “GET BAC” pour les inscrits .\nL'événeme
 nt aura lieu pendant les horaires de la médiathèque.
ATTACH;FMTTYPE=image/jpeg:https://www.vitrolles13.fr/app/uploads/2026/02/B
 ulle-sensorielle-P.3-scaled.jpg
CATEGORIES:Atelier,Santé
LOCATION:Médiathèque La Passerelle\, Place de la Liberté  1 avenue des S
 alyens 13127 Vitrolles\, France
X-APPLE-STRUCTURED-LOCATION;VALUE=URI;X-ADDRESS=Place de la Liberté  1 ave
 nue des Salyens 13127 Vitrolles\, France;X-APPLE-RADIUS=100;X-TITLE=Média
 thèque La Passerelle:geo:0,0
END:VEVENT
BEGIN:VTIMEZONE
TZID:Europe/Paris
X-LIC-LOCATION:Europe/Paris
BEGIN:DAYLIGHT
DTSTART:20260329T030000
TZOFFSETFROM:+0100
TZOFFSETTO:+0200
TZNAME:CEST
END:DAYLIGHT
END:VTIMEZONE
END:VCALENDAR