BEGIN:VCALENDAR
VERSION:2.0
PRODID:-//wp-events-plugin.com//5.99912//EN
TZID:Europe/Paris
X-WR-TIMEZONE:Europe/Paris
BEGIN:VEVENT
UID:0-1191@vitrolles13.fr
DTSTART;TZID=Europe/Paris;VALUE=DATE:20260423
DTEND;TZID=Europe/Paris;VALUE=DATE:20260427
DTSTAMP:20260415T144709Z
URL:https://www.vitrolles13.fr/evenements/gaming-aux-lumieres-2026/
SUMMARY:Gaming aux Lumières
DESCRIPTION:Pendant quatre jours\, le cinéma propose une programmation fes
 tive mêlant rétro gaming\, tournois\, animations\, goûters et projectio
 ns&nbsp\;autour de grands classiques du jeu vidéo.&nbsp\;\nAu programme :
  espace rétro gaming en accès libre\, expériences en réalité virtuell
 e\, animations Just Dance\, tournois Mario Kart et FIFA\, ainsi qu’une s
 oirée pizza&nbsp\;et plusieurs films inspirés de jeux vidéo. Un rendez-
 vous convivial et intergénérationnel pour jouer\, découvrir et partager
  ensemble la culture gaming.&nbsp\;&nbsp\;\nRetrouvez l'ensemble du progra
 mme en ligne.
ATTACH;FMTTYPE=image/jpeg:https://www.vitrolles13.fr/app/uploads/2024/11/g
 aming-2023.jpg
CATEGORIES:Sorties
LOCATION:Cinéma Les Lumières\, Arcades de Citeaux 13127 Vitrolles\, Franc
 e
X-APPLE-STRUCTURED-LOCATION;VALUE=URI;X-ADDRESS=Arcades de Citeaux 13127 Vi
 trolles\, France;X-APPLE-RADIUS=100;X-TITLE=Cinéma Les Lumières:geo:0,0
END:VEVENT
BEGIN:VTIMEZONE
TZID:Europe/Paris
X-LIC-LOCATION:Europe/Paris
BEGIN:DAYLIGHT
DTSTART:20260329T030000
TZOFFSETFROM:+0100
TZOFFSETTO:+0200
TZNAME:CEST
END:DAYLIGHT
END:VTIMEZONE
END:VCALENDAR