BEGIN:VCALENDAR
VERSION:2.0
PRODID:-//wp-events-plugin.com//5.99912//EN
TZID:Europe/Paris
X-WR-TIMEZONE:Europe/Paris
BEGIN:VEVENT
UID:0-1252@vitrolles13.fr
DTSTART;TZID=Europe/Paris:20260502T180000
DTEND;TZID=Europe/Paris:20260502T234500
DTSTAMP:20260402T120551Z
URL:https://www.vitrolles13.fr/evenements/festioai/
SUMMARY:Festi'Oaï
DESCRIPTION:Festival de musique en tremplin des jardins sonores&nbsp\;propo
 sé par le&nbsp\;Oaï&nbsp\;café&nbsp\;\n4 talents de la région sélecti
 onnés par le Jardin Sonore Festival&nbsp\;pour le parcours sonore&nbsp\;V
 inscat\,&nbsp\;&nbsp\;Sir&nbsp\;Romy\, Jamin et&nbsp\;micro-ondes&nbsp\;&n
 bsp\;\nAmbiance&nbsp\;festive\, food-trucks\, buvette&nbsp\;
ATTACH;FMTTYPE=image/jpeg:https://www.vitrolles13.fr/app/uploads/2026/04/F
 ESTI-OAI-AFFICHE-OK-scaled.jpg
CATEGORIES:Concert
LOCATION:Théâtre de Verdure\, Montée du Rocher 13127 Vitrolles\, France
X-APPLE-STRUCTURED-LOCATION;VALUE=URI;X-ADDRESS=Montée du Rocher 13127 Vit
 rolles\, France;X-APPLE-RADIUS=100;X-TITLE=Théâtre de Verdure:geo:0,0
END:VEVENT
BEGIN:VTIMEZONE
TZID:Europe/Paris
X-LIC-LOCATION:Europe/Paris
BEGIN:DAYLIGHT
DTSTART:20260329T030000
TZOFFSETFROM:+0100
TZOFFSETTO:+0200
TZNAME:CEST
END:DAYLIGHT
END:VTIMEZONE
END:VCALENDAR